BEGIN:VCALENDAR
VERSION:2.0
PRODID:-//Nexus Energy Center - ECPv5.1.6//NONSGML v1.0//EN
CALSCALE:GREGORIAN
METHOD:PUBLISH
X-WR-CALNAME:Nexus Energy Center
X-ORIGINAL-URL:http://www.nexusenergycenter.org
X-WR-CALDESC:Events for Nexus Energy Center
BEGIN:VTIMEZONE
TZID:America/Chicago
BEGIN:DAYLIGHT
TZOFFSETFROM:-0600
TZOFFSETTO:-0500
TZNAME:CDT
DTSTART:20160313T080000
END:DAYLIGHT
BEGIN:STANDARD
TZOFFSETFROM:-0500
TZOFFSETTO:-0600
TZNAME:CST
DTSTART:20161106T070000
END:STANDARD
END:VTIMEZONE
BEGIN:VEVENT
DTSTART;TZID=America/Chicago:20160318T080000
DTEND;TZID=America/Chicago:20160320T170000
DTSTAMP:20260423T183240
CREATED:20160121T180036Z
LAST-MODIFIED:20160121T180036Z
UID:7526-1458288000-1458493200@www.nexusenergycenter.org
SUMMARY:WNC Home\, Garden\, and Green Living Show
DESCRIPTION:Nexus Program Coordinator Chad Wright will be speaking at this year’s WNC Home\, Garden\, and Green Living Show! \nThe 41st Annual WNC Home\, Garden & Green Living Show will be held at the U.S. Cellular Center in downtown Asheville March 18?20\, 2016\, featuring products and services for the home\, garden & green living. \nChad will be speaking to attendees about ways to lower home energy costs and some of the best energy efficient products & technology on the market. \nFor more info or to buy tickets\, visit http://homegardenandgreenlivingshow.com \nShare this:
URL:http://www.nexusenergycenter.org/event/wnc-home-garden-and-green-living-show/
LOCATION:U.S. Cellular Center\, 87 Haywood St.\, Asheville\, NC\, 28801\, United States
CATEGORIES:Green/Sustainable Events
ATTACH;FMTTYPE=image/png:http://www.nexusenergycenter.org/wp-content/blogs.dir/2/files/2016/01/Screen-Shot-2016-01-21-at-11.49.29-AM.png
END:VEVENT
END:VCALENDAR