BEGIN:VCALENDAR
VERSION:2.0
PRODID:-//Nexus Energy Center - ECPv5.1.6//NONSGML v1.0//EN
CALSCALE:GREGORIAN
METHOD:PUBLISH
X-WR-CALNAME:Nexus Energy Center
X-ORIGINAL-URL:http://www.nexusenergycenter.org
X-WR-CALDESC:Events for Nexus Energy Center
BEGIN:VTIMEZONE
TZID:America/Chicago
BEGIN:DAYLIGHT
TZOFFSETFROM:-0600
TZOFFSETTO:-0500
TZNAME:CDT
DTSTART:20160313T080000
END:DAYLIGHT
BEGIN:STANDARD
TZOFFSETFROM:-0500
TZOFFSETTO:-0600
TZNAME:CST
DTSTART:20161106T070000
END:STANDARD
END:VTIMEZONE
BEGIN:VEVENT
DTSTART;TZID=America/Chicago:20160411T183000
DTEND;TZID=America/Chicago:20160411T200000
DTSTAMP:20260423T182518
CREATED:20160125T180418Z
LAST-MODIFIED:20160405T204301Z
UID:7553-1460399400-1460404800@www.nexusenergycenter.org
SUMMARY:UAH Social Sustainability Gala
DESCRIPTION:Nexus Executive Director Ruchi Singhal will be serving as a mentor at this year’s University of Alabama-Huntsville Social Sustainability Gala. \nThis event focuses on fostering a dialogue between students and the selected mentors on areas including social justice\, diversity\, and environmental issues such as clean energy. \nFor more information on the event\, contact Haley Hix\, Sustainability Coordinator for UAH at haley.hix@uah.edu. \nShare this:
URL:http://www.nexusenergycenter.org/event/uah-social-sustainability-gala/
CATEGORIES:Green/Sustainable Events
ATTACH;FMTTYPE=image/png:http://www.nexusenergycenter.org/wp-content/blogs.dir/2/files/2016/01/Screen-Shot-2016-01-25-at-12.03.10-PM.png
END:VEVENT
END:VCALENDAR