BEGIN:VCALENDAR
VERSION:2.0
PRODID:-//Nexus Energy Center - ECPv5.1.6//NONSGML v1.0//EN
CALSCALE:GREGORIAN
METHOD:PUBLISH
X-WR-CALNAME:Nexus Energy Center
X-ORIGINAL-URL:http://www.nexusenergycenter.org
X-WR-CALDESC:Events for Nexus Energy Center
BEGIN:VTIMEZONE
TZID:America/Chicago
BEGIN:DAYLIGHT
TZOFFSETFROM:-0600
TZOFFSETTO:-0500
TZNAME:CDT
DTSTART:20160313T080000
END:DAYLIGHT
BEGIN:STANDARD
TZOFFSETFROM:-0500
TZOFFSETTO:-0600
TZNAME:CST
DTSTART:20161106T070000
END:STANDARD
END:VTIMEZONE
BEGIN:VEVENT
DTSTART;TZID=America/Chicago:20160422T110000
DTEND;TZID=America/Chicago:20160422T130000
DTSTAMP:20260423T182504
CREATED:20160311T203458Z
LAST-MODIFIED:20160411T202534Z
UID:7636-1461322800-1461330000@www.nexusenergycenter.org
SUMMARY:Tiny House Tours and Cookout
DESCRIPTION:Come out to the U.S. Space & Rocket Center on Friday\, April 22nd for a cookout and FREE tours of our Tiny Green Home! This is a great way to observe the official Earth Day and grab lunch all in one stop. \nWe’ll be grilling hot dogs\, doing walk throughs of our mobile off-grid tiny house\, and not to mention the first 25 to RSVP will be getting a free Nexus t-shirt!\n \nRSVP for your chance to win a free Nexus t-shirt \n \nShare this:
URL:http://www.nexusenergycenter.org/event/tiny-house-tours-and-cookout/
LOCATION:U.S. Space & Rocket Center\, 1 Tranquility Base\, Huntsville\, AL\, 35805\, United States
CATEGORIES:Green/Sustainable Events,Tiny House events
ATTACH;FMTTYPE=image/png:http://www.nexusenergycenter.org/wp-content/blogs.dir/2/files/2016/03/hot-dog-575813__180.png
END:VEVENT
END:VCALENDAR