BEGIN:VCALENDAR
VERSION:2.0
PRODID:-//Nexus Energy Center - ECPv5.1.6//NONSGML v1.0//EN
CALSCALE:GREGORIAN
METHOD:PUBLISH
X-WR-CALNAME:Nexus Energy Center
X-ORIGINAL-URL:http://www.nexusenergycenter.org
X-WR-CALDESC:Events for Nexus Energy Center
BEGIN:VTIMEZONE
TZID:America/Chicago
BEGIN:DAYLIGHT
TZOFFSETFROM:-0600
TZOFFSETTO:-0500
TZNAME:CDT
DTSTART:20150308T080000
END:DAYLIGHT
BEGIN:STANDARD
TZOFFSETFROM:-0500
TZOFFSETTO:-0600
TZNAME:CST
DTSTART:20151101T070000
END:STANDARD
END:VTIMEZONE
BEGIN:VEVENT
DTSTART;TZID=America/Chicago:20150603T190000
DTEND;TZID=America/Chicago:20150603T210000
DTSTAMP:20260424T000142
CREATED:20150513T203805Z
LAST-MODIFIED:20150527T145835Z
UID:7156-1433358000-1433365200@www.nexusenergycenter.org
SUMMARY:Tiny Green Home Viewing Party & Contributor Celebration
DESCRIPTION:If you haven’t already heard\, the Nexus Tiny Green Home has been receiving some major attention lately – at both the local AND national level! Traveling to several events and even being involved in a hit reality show\, the public has embraced our Tiny Green Home and all of the energy efficiency/conservation values it represents. \nTo celebrate\, and also to reward all those whose hard work (and hard-earned dollars) went into making the Nexus Tiny House a reality\, we are hosting a viewing party. \nThe party will be held at Straight to Ale brewery on June 3rd at 7 p.m. Hot Box food truck and freshly brewed Straight to Ale suds will be available for purchase. \nAdmission is free\, but click here to RSVP! \nWe can’t wait to see everyone! \nShare this:
URL:http://www.nexusenergycenter.org/event/tiny-house-nation-viewing-party/
LOCATION:Straight to Ale Brewery\, 3200 Leeman Ferry Road SW\, Huntsville\, AL\, 35801\, United States
ATTACH;FMTTYPE=image/png:http://www.nexusenergycenter.org/wp-content/blogs.dir/2/files/2015/05/sta_logo1.png
END:VEVENT
END:VCALENDAR