BEGIN:VCALENDAR
VERSION:2.0
PRODID:-//Nexus Energy Center - ECPv5.1.6//NONSGML v1.0//EN
CALSCALE:GREGORIAN
METHOD:PUBLISH
X-WR-CALNAME:Nexus Energy Center
X-ORIGINAL-URL:http://www.nexusenergycenter.org
X-WR-CALDESC:Events for Nexus Energy Center
BEGIN:VTIMEZONE
TZID:America/Chicago
BEGIN:DAYLIGHT
TZOFFSETFROM:-0600
TZOFFSETTO:-0500
TZNAME:CDT
DTSTART:20150308T080000
END:DAYLIGHT
BEGIN:STANDARD
TZOFFSETFROM:-0500
TZOFFSETTO:-0600
TZNAME:CST
DTSTART:20151101T070000
END:STANDARD
END:VTIMEZONE
BEGIN:VEVENT
DTSTART;TZID=America/Chicago:20150527T120000
DTEND;TZID=America/Chicago:20150530T170000
DTSTAMP:20260423T205222
CREATED:20150513T210846Z
LAST-MODIFIED:20150513T210846Z
UID:7159-1432728000-1433005200@www.nexusenergycenter.org
SUMMARY:Tiny House at Lowe Mill ARTS and Entertainment
DESCRIPTION:As a “pre-game” for our June 3rd Tiny House Nation viewing party\, we will be parking the Tiny House at Lowe Mill ARTS and Entertainment. \nThe Tiny House will be at Lowe Mill starting May 27th and will be there through May 30th. Come enjoy several of the awesome Lowe Mill events happening that weekend (like the 11th Annual Cigar Box Guitar Festival) and check out the house while you’re at it! \nShare this:
URL:http://www.nexusenergycenter.org/event/tiny-house-at-lowe-mill-arts-and-entertainment/
LOCATION:Lowe Mill ARTS and Entertainment\, 2211 Seminole Drive\, Huntsville\, AL\, 35805\, United States
ATTACH;FMTTYPE=image/png:http://www.nexusenergycenter.org/wp-content/blogs.dir/2/files/2015/05/logo-300.png
END:VEVENT
END:VCALENDAR