BEGIN:VCALENDAR
VERSION:2.0
PRODID:-//Nexus Energy Center - ECPv5.1.6//NONSGML v1.0//EN
CALSCALE:GREGORIAN
METHOD:PUBLISH
X-WR-CALNAME:Nexus Energy Center
X-ORIGINAL-URL:http://www.nexusenergycenter.org
X-WR-CALDESC:Events for Nexus Energy Center
BEGIN:VTIMEZONE
TZID:America/Chicago
BEGIN:DAYLIGHT
TZOFFSETFROM:-0600
TZOFFSETTO:-0500
TZNAME:CDT
DTSTART:20150308T080000
END:DAYLIGHT
BEGIN:STANDARD
TZOFFSETFROM:-0500
TZOFFSETTO:-0600
TZNAME:CST
DTSTART:20151101T070000
END:STANDARD
END:VTIMEZONE
BEGIN:VEVENT
DTSTART;TZID=America/Chicago:20151020T083000
DTEND;TZID=America/Chicago:20151020T100000
DTSTAMP:20260423T170331
CREATED:20150928T215356Z
LAST-MODIFIED:20150928T215356Z
UID:7346-1445329800-1445335200@www.nexusenergycenter.org
SUMMARY:Tiny Green Home at Energy Huntsville
DESCRIPTION:The Tiny Green Home will be making an appearance at the October Energy Huntsville meeting! Find out more about Energy Huntsville at energyhuntsville.com. \nShare this:
URL:http://www.nexusenergycenter.org/event/tiny-green-home-at-energy-huntsville/
LOCATION:Davidson Center at Space and Rocket Center\, 1 Tranquility Base \, Huntsville\, AL\, 35805
CATEGORIES:Tiny House events
ATTACH;FMTTYPE=image/jpeg:http://www.nexusenergycenter.org/wp-content/blogs.dir/2/files/2015/05/Tiny-House-e1432061342623.jpg
END:VEVENT
END:VCALENDAR