BEGIN:VCALENDAR
VERSION:2.0
PRODID:-//Nexus Energy Center - ECPv5.1.6//NONSGML v1.0//EN
CALSCALE:GREGORIAN
METHOD:PUBLISH
X-WR-CALNAME:Nexus Energy Center
X-ORIGINAL-URL:http://www.nexusenergycenter.org
X-WR-CALDESC:Events for Nexus Energy Center
BEGIN:VTIMEZONE
TZID:America/Chicago
BEGIN:DAYLIGHT
TZOFFSETFROM:-0600
TZOFFSETTO:-0500
TZNAME:CDT
DTSTART:20150308T080000
END:DAYLIGHT
BEGIN:STANDARD
TZOFFSETFROM:-0500
TZOFFSETTO:-0600
TZNAME:CST
DTSTART:20151101T070000
END:STANDARD
END:VTIMEZONE
BEGIN:VEVENT
DTSTART;TZID=America/Chicago:20150913T130000
DTEND;TZID=America/Chicago:20150913T170000
DTSTAMP:20260423T214135
CREATED:20150827T211631Z
LAST-MODIFIED:20150827T211631Z
UID:7289-1442149200-1442163600@www.nexusenergycenter.org
SUMMARY:TEDxHuntsville: Dream Makers and Risk Takers
DESCRIPTION:Nexus Energy Center (and the Tiny Green Home!) will be a part of the TEDxHuntsville event\, Dream Makers and Risk Takers\, on September 13th. \nJoin us as we hear from local artists\, civic leaders\, entrepreneurs and scientists as they provide insight and share with us their dreams of success\, bouts with failure\, stories of risks and lessons learned going against the grain. \nSee more information and get tickets here. \n  \n  \nShare this:
URL:http://www.nexusenergycenter.org/event/tedxhuntsville-dream-makers-and-risk-takers/
LOCATION:Thurber Arts Center\, The Randolph School\, 1005 Drake Ave. SE\, Huntsville\, AL\, 35802\, United States
CATEGORIES:Tiny House events
ATTACH;FMTTYPE=image/png:http://www.nexusenergycenter.org/wp-content/blogs.dir/2/files/2015/08/Screen-Shot-2015-08-27-at-4.14.19-PM-e1440710143531.png
END:VEVENT
END:VCALENDAR