BEGIN:VCALENDAR
VERSION:2.0
PRODID:-//Nexus Energy Center - ECPv5.1.6//NONSGML v1.0//EN
CALSCALE:GREGORIAN
METHOD:PUBLISH
X-WR-CALNAME:Nexus Energy Center
X-ORIGINAL-URL:http://www.nexusenergycenter.org
X-WR-CALDESC:Events for Nexus Energy Center
BEGIN:VTIMEZONE
TZID:America/Chicago
BEGIN:DAYLIGHT
TZOFFSETFROM:-0600
TZOFFSETTO:-0500
TZNAME:CDT
DTSTART:20150308T080000
END:DAYLIGHT
BEGIN:STANDARD
TZOFFSETFROM:-0500
TZOFFSETTO:-0600
TZNAME:CST
DTSTART:20151101T070000
END:STANDARD
END:VTIMEZONE
BEGIN:VEVENT
DTSTART;TZID=America/Chicago:20150505T120000
DTEND;TZID=America/Chicago:20150505T150000
DTSTAMP:20260423T223430
CREATED:20150429T013326Z
LAST-MODIFIED:20150429T013326Z
UID:7146-1430827200-1430838000@www.nexusenergycenter.org
SUMMARY:TARCOG Senior Fun Fest
DESCRIPTION:In partnership with TARCOG\, Nexus will be bringing the Tiny House to Senior Fun Fest day at Sharon Johnston Park! \nSenior citizens are most at risk of health issues brought on by poor air quality and home insulation\, so Nexus is excited to share simple solutions to help improve their comfort level and overall quality of life. \nThis event will be fun and seniors can enjoy a variety of events\, entertainment and games. Seniors can come to fish in the lake if they want to\, sit and enjoy the fun and music and join in with all of the activities! \nShare this:
URL:http://www.nexusenergycenter.org/event/tarcog-senior-fun-fest/
ATTACH;FMTTYPE=image/png:http://www.nexusenergycenter.org/wp-content/blogs.dir/2/files/2015/04/logoimage.png
END:VEVENT
END:VCALENDAR