BEGIN:VCALENDAR
VERSION:2.0
PRODID:-//Nexus Energy Center - ECPv5.1.6//NONSGML v1.0//EN
CALSCALE:GREGORIAN
METHOD:PUBLISH
X-WR-CALNAME:Nexus Energy Center
X-ORIGINAL-URL:http://www.nexusenergycenter.org
X-WR-CALDESC:Events for Nexus Energy Center
BEGIN:VTIMEZONE
TZID:America/Chicago
BEGIN:DAYLIGHT
TZOFFSETFROM:-0600
TZOFFSETTO:-0500
TZNAME:CDT
DTSTART:20170312T080000
END:DAYLIGHT
BEGIN:STANDARD
TZOFFSETFROM:-0500
TZOFFSETTO:-0600
TZNAME:CST
DTSTART:20171105T070000
END:STANDARD
END:VTIMEZONE
BEGIN:VEVENT
DTSTART;TZID=America/Chicago:20170622T170000
DTEND;TZID=America/Chicago:20170622T210000
DTSTAMP:20260423T153529
CREATED:20170608T102824Z
LAST-MODIFIED:20170608T102824Z
UID:9225-1498150800-1498165200@www.nexusenergycenter.org
SUMMARY:Sustainability Fundraiser June 22\, 2017
DESCRIPTION:Zombies at the Brewery! AHHHH! Can you out run the horde of the undead? This Zombie 5K will be the most unique run you will have this season! We will also be having local farmers and sustainability educators here will special presentations and information. \nWe are also going to be having raffles\, prizes and giveaways to support two great Alabama organizations\, Nexus Energy Center and WaterWorks Center for Environmental Education & AMRV RC&D! \n306bbq & Catering-Greenbrier will be on site with some awsome BBQ too! \nRunning\, BBQ\, Zombies\, great Causes\, and Games! What could be better? \n\nShare this:
URL:http://www.nexusenergycenter.org/event/sustainability-fundraiser-june-22-2017/
LOCATION:https://www.google.gr/maps/place/Rocket+Republic+Brewing+Company/@34.6727763\,-86.7739964\,15z/data=!4m5!3m4!1s0x0:0x7f38a7e471c9d954!8m2!3d34.6727763!4d-86.7739964\, 289 Production Ave\, Madison\,\, Alabama\, 35758\, United States
ATTACH;FMTTYPE=image/jpeg:http://www.nexusenergycenter.org/wp-content/blogs.dir/2/files/2017/06/IMG_1019.jpg
END:VEVENT
END:VCALENDAR