BEGIN:VCALENDAR
VERSION:2.0
PRODID:-//Nexus Energy Center - ECPv5.1.6//NONSGML v1.0//EN
CALSCALE:GREGORIAN
METHOD:PUBLISH
X-WR-CALNAME:Nexus Energy Center
X-ORIGINAL-URL:http://www.nexusenergycenter.org
X-WR-CALDESC:Events for Nexus Energy Center
BEGIN:VTIMEZONE
TZID:America/Chicago
BEGIN:DAYLIGHT
TZOFFSETFROM:-0600
TZOFFSETTO:-0500
TZNAME:CDT
DTSTART:20140309T080000
END:DAYLIGHT
BEGIN:STANDARD
TZOFFSETFROM:-0500
TZOFFSETTO:-0600
TZNAME:CST
DTSTART:20141102T070000
END:STANDARD
END:VTIMEZONE
BEGIN:VEVENT
DTSTART;TZID=America/Chicago:20140918T113000
DTEND;TZID=America/Chicago:20140918T123000
DTSTAMP:20260425T084751
CREATED:20140826T195545Z
LAST-MODIFIED:20140827T161233Z
UID:6692-1411039800-1411043400@www.nexusenergycenter.org
SUMMARY:September Lunch & Learn: LightWave Solar
DESCRIPTION:Our next Lunch & Learn is on the calendar! Join us on Thursday\, September 18th at 11:30 a.m. for lunch and learn more about LightWave Solar.  \nLightWave Solar will present a Commercial Solar Seminar to explain the financial incentives for commercial solar installations\, including the 30% Investment Tax Credit\, MACRS Accelerated Depreciation and TVA’s solar incentive programs. Presentation will also cover the AlabamaSAVES loan option which provides 1% fixed rate financing to Alabama businesses. Join us to learn how solar investments make sense for businesses. Presentation and lunch will be held at the Nexus Energy Center in Huntsville. \nLunch is free to members and $10 for non-members.  \nRSVP HERE!  \nShare this:
URL:http://www.nexusenergycenter.org/event/september-lunch-learn-lightwave-solar/
LOCATION:Nexus Energy Center\, 6767 Old Madison Pike NW 
END:VEVENT
END:VCALENDAR