BEGIN:VCALENDAR
VERSION:2.0
PRODID:-//Nexus Energy Center - ECPv5.1.6//NONSGML v1.0//EN
CALSCALE:GREGORIAN
METHOD:PUBLISH
X-WR-CALNAME:Nexus Energy Center
X-ORIGINAL-URL:http://www.nexusenergycenter.org
X-WR-CALDESC:Events for Nexus Energy Center
BEGIN:VTIMEZONE
TZID:America/Chicago
BEGIN:DAYLIGHT
TZOFFSETFROM:-0600
TZOFFSETTO:-0500
TZNAME:CDT
DTSTART:20150308T080000
END:DAYLIGHT
BEGIN:STANDARD
TZOFFSETFROM:-0500
TZOFFSETTO:-0600
TZNAME:CST
DTSTART:20151101T070000
END:STANDARD
END:VTIMEZONE
BEGIN:VEVENT
DTSTART;TZID=America/Chicago:20150418T120000
DTEND;TZID=America/Chicago:20150418T160000
DTSTAMP:20260424T083147
CREATED:20141121T155347Z
LAST-MODIFIED:20150326T201345Z
UID:6846-1429358400-1429372800@www.nexusenergycenter.org
SUMMARY:2nd Annual Nexus Energy Chili Challenge
DESCRIPTION:You think your chili is the best in the Tennessee Valley? Come see how yours stacks up against other Huntsville chili-champions (or just serve as a “taste-tester” – we always need quality control\, right?) Taking place at the magnificent venue of Huntsville’s Straight to Ale Brewery\, it’s sure to be a great time. \nNot to mention\, this is a CASI (Chili Appreciation Society International) Alabama State Championship event\, so there will be some SERIOUSLY amazing chili being cooked up. \nLive music by Alabama State Representative Phil Williams and his band The Reps\, a jalapeño eating contest\, raffle prizes\, and specially brewed beer from STA make this a premier event for the Tennessee Valley\, so gather your closest “chili-heads” and come on out! \nTo register a team or get your tickets\, click here! \n       Presented by: \n    \n  \n  \n  \nFor more information\, feel free to call us at (256) 539-6225. \nShare this:
URL:http://www.nexusenergycenter.org/event/nexuschilichallenge/
LOCATION:Straight to Ale Brewery\, 3200 Leeman Ferry Road SW\, Huntsville\, AL\, 35801\, United States
ATTACH;FMTTYPE=image/jpeg:http://www.nexusenergycenter.org/wp-content/blogs.dir/2/files/2014/11/8221_fit512-e1427317937731.jpg
END:VEVENT
END:VCALENDAR