BEGIN:VCALENDAR
VERSION:2.0
PRODID:-//Nexus Energy Center - ECPv5.1.6//NONSGML v1.0//EN
CALSCALE:GREGORIAN
METHOD:PUBLISH
X-WR-CALNAME:Nexus Energy Center
X-ORIGINAL-URL:http://www.nexusenergycenter.org
X-WR-CALDESC:Events for Nexus Energy Center
BEGIN:VTIMEZONE
TZID:America/Chicago
BEGIN:DAYLIGHT
TZOFFSETFROM:-0600
TZOFFSETTO:-0500
TZNAME:CDT
DTSTART:20170312T080000
END:DAYLIGHT
BEGIN:STANDARD
TZOFFSETFROM:-0500
TZOFFSETTO:-0600
TZNAME:CST
DTSTART:20171105T070000
END:STANDARD
END:VTIMEZONE
BEGIN:VEVENT
DTSTART;VALUE=DATE:20170101
DTEND;VALUE=DATE:20180101
DTSTAMP:20260423T150809
CREATED:20161222T122854Z
LAST-MODIFIED:20170420T080046Z
UID:8191-1483228800-1514764799@www.nexusenergycenter.org
SUMMARY:Make a Difference
DESCRIPTION:As a non-profit organization\, our team at Nexus Energy Center feels it is of the utmost importance to create a smart energy future\, as well as ensuring all Alabamians have the opportunity to be comfortable in their home.  \nThe Comfort Project is a long-term solution providing elderly residents and the underserved community with the opportunity to incorporate energy efficiency upgrades in their homes; resulting in lower utility bills as much as 25%. By saving on their utility expenses\, residents can put that money toward other necessities such as medicine and food. \nStrictly funded through grants\, donations and philanthropic efforts\, Nexus Energy Center\, working with other non-profit agencies\, gives back to those who may not be able to afford the luxury of being warm and cool in their own homes. \nPlease consider opening up your wallets\, or checkbooks\, to help us assist those who need it the most. Follow the DONATE NOW button below; we accept PayPal donations\, credit or debit card donations\, or checks made out to “Nexus Energy Center” (find our mailing address here). \nDonate Now\nShare this:
URL:http://www.nexusenergycenter.org/event/never-late-make-difference/
END:VEVENT
END:VCALENDAR