BEGIN:VCALENDAR
VERSION:2.0
PRODID:-//Nexus Energy Center - ECPv5.1.6//NONSGML v1.0//EN
CALSCALE:GREGORIAN
METHOD:PUBLISH
X-WR-CALNAME:Nexus Energy Center
X-ORIGINAL-URL:http://www.nexusenergycenter.org
X-WR-CALDESC:Events for Nexus Energy Center
BEGIN:VTIMEZONE
TZID:America/Chicago
BEGIN:DAYLIGHT
TZOFFSETFROM:-0600
TZOFFSETTO:-0500
TZNAME:CDT
DTSTART:20160313T080000
END:DAYLIGHT
BEGIN:STANDARD
TZOFFSETFROM:-0500
TZOFFSETTO:-0600
TZNAME:CST
DTSTART:20161106T070000
END:STANDARD
END:VTIMEZONE
BEGIN:VEVENT
DTSTART;TZID=America/Chicago:20160505T114500
DTEND;TZID=America/Chicago:20160505T130000
DTSTAMP:20260423T195156
CREATED:20160314T184046Z
LAST-MODIFIED:20160425T193343Z
UID:7639-1462448700-1462453200@www.nexusenergycenter.org
SUMMARY:May Lunch and Learn: Innovate Energy!
DESCRIPTION:For the month of May\, our Lunch and Learn will be a part of another coinciding event\, Innovate Energy! \nInnovate Energy is an event bringing together speakers and panelists for a one-day event to provide Huntsville’s small business community and Energy Entrepreneurs Collaborative partners with insight into how they can grow their business in the energy market sector. \nConfirmed Speakers Include: \n\nMr. Cole Walker\, CEO\, Energy Surety Partners\nMs. Lori Severin\, Chief Marketing Officer\, Energy Surety Partners\nMs. Porscha Porter\, Strategy and Business Management Branch Chief\, U.S. Army Corps of Engineers Energy Division\nMr. Matt Reed\, Go-To-Market Solutions\n\nNexus members will be able to attend the lunch hour (11:45-1:00) of this event for the special price of $10. \nTo register for the Nexus Energy Center Member luncheon ONLY\, click here. To register for the full-day event\, click here.\nShare this:
URL:http://www.nexusenergycenter.org/event/may-lunch-and-learn-energy-entrepreneurs-collaborative/
LOCATION:U.S. Space & Rocket Center\, 1 Tranquility Base\, Huntsville\, AL\, 35805\, United States
CATEGORIES:Energy Huntsville
ATTACH;FMTTYPE=image/jpeg:http://www.nexusenergycenter.org/wp-content/blogs.dir/2/files/2016/03/EEC-Logo9ptgoldjpeg-e1457980836524.jpg
END:VEVENT
END:VCALENDAR