BEGIN:VCALENDAR
VERSION:2.0
PRODID:-//Nexus Energy Center - ECPv5.1.6//NONSGML v1.0//EN
CALSCALE:GREGORIAN
METHOD:PUBLISH
X-WR-CALNAME:Nexus Energy Center
X-ORIGINAL-URL:http://www.nexusenergycenter.org
X-WR-CALDESC:Events for Nexus Energy Center
BEGIN:VTIMEZONE
TZID:America/Chicago
BEGIN:DAYLIGHT
TZOFFSETFROM:-0600
TZOFFSETTO:-0500
TZNAME:CDT
DTSTART:20150308T080000
END:DAYLIGHT
BEGIN:STANDARD
TZOFFSETFROM:-0500
TZOFFSETTO:-0600
TZNAME:CST
DTSTART:20151101T070000
END:STANDARD
END:VTIMEZONE
BEGIN:VEVENT
DTSTART;VALUE=DATE:20151003
DTEND;VALUE=DATE:20151004
DTSTAMP:20260423T205639
CREATED:20150827T212639Z
LAST-MODIFIED:20150827T212639Z
UID:7292-1443830400-1443916799@www.nexusenergycenter.org
SUMMARY:Madison Street Festival
DESCRIPTION:Nexus Energy Center will be taking the Tiny Green Home to the people for the 35th Annual Madison Street Festival\, Saturday\, October 3rd! \nJoin us for a day of fun\, food\, music\, and more in historic downtown Madison – read more about the Madison Street Festival at madisonstreetfestival.org \n  \n  \nShare this:
URL:http://www.nexusenergycenter.org/event/madison-street-festival/
CATEGORIES:Tiny House events
ATTACH;FMTTYPE=image/jpeg:http://www.nexusenergycenter.org/wp-content/blogs.dir/2/files/2015/08/Full-Color-Logo-e1440710729886.jpg
END:VEVENT
END:VCALENDAR