BEGIN:VCALENDAR
VERSION:2.0
PRODID:-//Nexus Energy Center - ECPv5.1.6//NONSGML v1.0//EN
CALSCALE:GREGORIAN
METHOD:PUBLISH
X-WR-CALNAME:Nexus Energy Center
X-ORIGINAL-URL:http://www.nexusenergycenter.org
X-WR-CALDESC:Events for Nexus Energy Center
BEGIN:VTIMEZONE
TZID:America/Chicago
BEGIN:DAYLIGHT
TZOFFSETFROM:-0600
TZOFFSETTO:-0500
TZNAME:CDT
DTSTART:20150308T080000
END:DAYLIGHT
BEGIN:STANDARD
TZOFFSETFROM:-0500
TZOFFSETTO:-0600
TZNAME:CST
DTSTART:20151101T070000
END:STANDARD
END:VTIMEZONE
BEGIN:VEVENT
DTSTART;TZID=America/Chicago:20151212T173000
DTEND;TZID=America/Chicago:20151212T210000
DTSTAMP:20260423T213820
CREATED:20151026T172836Z
LAST-MODIFIED:20151026T172836Z
UID:7381-1449941400-1449954000@www.nexusenergycenter.org
SUMMARY:Madison Christmas Parade
DESCRIPTION:Join Nexus Energy Center and the Tiny Green Home for the 2015 Madison Christmas Parade! \nThe theme for this year is “Christmas Through the Eyes of a Child.” The parade will take place on December 12\, at 5:30 p.m. \nFor more information\, visit http://www.madisonal.gov/specialevents. \nShare this:
URL:http://www.nexusenergycenter.org/event/madison-christmas-parade-2/
CATEGORIES:Tiny House events
ATTACH;FMTTYPE=image/jpeg:http://www.nexusenergycenter.org/wp-content/blogs.dir/2/files/2015/10/Tiny-House-Christmas-picture-e1445878857320.jpg
END:VEVENT
END:VCALENDAR