BEGIN:VCALENDAR
VERSION:2.0
PRODID:-//Nexus Energy Center - ECPv5.1.6//NONSGML v1.0//EN
CALSCALE:GREGORIAN
METHOD:PUBLISH
X-WR-CALNAME:Nexus Energy Center
X-ORIGINAL-URL:http://www.nexusenergycenter.org
X-WR-CALDESC:Events for Nexus Energy Center
BEGIN:VTIMEZONE
TZID:America/Chicago
BEGIN:DAYLIGHT
TZOFFSETFROM:-0600
TZOFFSETTO:-0500
TZNAME:CDT
DTSTART:20140309T080000
END:DAYLIGHT
BEGIN:STANDARD
TZOFFSETFROM:-0500
TZOFFSETTO:-0600
TZNAME:CST
DTSTART:20141102T070000
END:STANDARD
END:VTIMEZONE
BEGIN:VEVENT
DTSTART;TZID=America/Chicago:20141018T100000
DTEND;TZID=America/Chicago:20141019T160000
DTSTAMP:20260425T054539
CREATED:20140708T160038Z
LAST-MODIFIED:20140806T161947Z
UID:6595-1413626400-1413734400@www.nexusenergycenter.org
SUMMARY:Lucky Duck Days
DESCRIPTION:Join Nexus Energy Center for the Second Annual Lucky Duck Days! \nCome enjoy a FREE street festival filled with arts and crafts\, food trucks and duck-themed carnival games! \nDon’t miss out on the Duck Derby! Purchase a rubber duck and watch it float down the waterway for a \nchance to win a week vacation at Tops’l Tide Resort in Destin\, Florida! \nwww.luckyduckdays.com \nFor more information\, contact us at (256)489-6267 or annemarie@nexusenergycenter.org. \nShare this:
URL:http://www.nexusenergycenter.org/event/lucky-duck-days/
ATTACH;FMTTYPE=image/png:http://www.nexusenergycenter.org/wp-content/blogs.dir/2/files/2014/04/duckywebpage.png
END:VEVENT
END:VCALENDAR