BEGIN:VCALENDAR
VERSION:2.0
PRODID:-//Nexus Energy Center - ECPv5.1.6//NONSGML v1.0//EN
CALSCALE:GREGORIAN
METHOD:PUBLISH
X-WR-CALNAME:Nexus Energy Center
X-ORIGINAL-URL:http://www.nexusenergycenter.org
X-WR-CALDESC:Events for Nexus Energy Center
BEGIN:VTIMEZONE
TZID:America/Chicago
BEGIN:DAYLIGHT
TZOFFSETFROM:-0600
TZOFFSETTO:-0500
TZNAME:CDT
DTSTART:20150308T080000
END:DAYLIGHT
BEGIN:STANDARD
TZOFFSETFROM:-0500
TZOFFSETTO:-0600
TZNAME:CST
DTSTART:20151101T070000
END:STANDARD
END:VTIMEZONE
BEGIN:VEVENT
DTSTART;TZID=America/Chicago:20150307T110000
DTEND;TZID=America/Chicago:20150307T150000
DTSTAMP:20260424T144338
CREATED:20150219T222120Z
LAST-MODIFIED:20150219T222120Z
UID:6975-1425726000-1425740400@www.nexusenergycenter.org
SUMMARY:Kite Festival
DESCRIPTION:The Nexus Energy Center will have a booth at this year’s 2015 Community Kite Festival\, brought to Huntsville by the AshaKiran group. This is a wonderful\, free event for families and will have a host of activities perfect for little ones. Come out and enjoy a day of sunshine and colorful kites! \nGet more information here \n\nShare this:
URL:http://www.nexusenergycenter.org/event/kite-festival/
END:VEVENT
END:VCALENDAR