BEGIN:VCALENDAR
VERSION:2.0
PRODID:-//Nexus Energy Center - ECPv5.1.6//NONSGML v1.0//EN
CALSCALE:GREGORIAN
METHOD:PUBLISH
X-WR-CALNAME:Nexus Energy Center
X-ORIGINAL-URL:http://www.nexusenergycenter.org
X-WR-CALDESC:Events for Nexus Energy Center
BEGIN:VTIMEZONE
TZID:America/Chicago
BEGIN:DAYLIGHT
TZOFFSETFROM:-0600
TZOFFSETTO:-0500
TZNAME:CDT
DTSTART:20140309T080000
END:DAYLIGHT
BEGIN:STANDARD
TZOFFSETFROM:-0500
TZOFFSETTO:-0600
TZNAME:CST
DTSTART:20141102T070000
END:STANDARD
END:VTIMEZONE
BEGIN:VEVENT
DTSTART;TZID=America/Chicago:20140717T113000
DTEND;TZID=America/Chicago:20140717T123000
DTSTAMP:20260425T114748
CREATED:20140703T193601Z
LAST-MODIFIED:20140710T190247Z
UID:6592-1405596600-1405600200@www.nexusenergycenter.org
SUMMARY:July Lunch & Learn: Membership Appreciation
DESCRIPTION:  \nRSVP Here for this months Lunch and Learn\, a membership appreciation lunch to thank you for all your support! \nJoin us on Thursday\, July 17th at 11:30 in the Nexus Energy Solution Center for a lunch catered by EarthFare and hear about what has been going on at Nexus! You will also have the opportunity to continue your support and renew your membership. The first 30 people to renew will receive a ticket to the U.S. Space and Rocket Center! \n  \nTickets are free to existing members and $10.00 at the door. We hope to see you there! \n  \nRSVP HERE!  \nShare this:
URL:http://www.nexusenergycenter.org/event/july-lunch-learn-membership-appreciation/
LOCATION:Nexus Energy Center\, 6767 Old Madison Pike NW 
END:VEVENT
END:VCALENDAR