BEGIN:VCALENDAR
VERSION:2.0
PRODID:-//Nexus Energy Center - ECPv5.1.6//NONSGML v1.0//EN
CALSCALE:GREGORIAN
METHOD:PUBLISH
X-WR-CALNAME:Nexus Energy Center
X-ORIGINAL-URL:http://www.nexusenergycenter.org
X-WR-CALDESC:Events for Nexus Energy Center
BEGIN:VTIMEZONE
TZID:America/Chicago
BEGIN:DAYLIGHT
TZOFFSETFROM:-0600
TZOFFSETTO:-0500
TZNAME:CDT
DTSTART:20150308T080000
END:DAYLIGHT
BEGIN:STANDARD
TZOFFSETFROM:-0500
TZOFFSETTO:-0600
TZNAME:CST
DTSTART:20151101T070000
END:STANDARD
END:VTIMEZONE
BEGIN:VEVENT
DTSTART;TZID=America/Chicago:20150115T113000
DTEND;TZID=America/Chicago:20150115T130000
DTSTAMP:20260424T205554
CREATED:20141216T194725Z
LAST-MODIFIED:20150106T202115Z
UID:6865-1421321400-1421326800@www.nexusenergycenter.org
SUMMARY:January Lunch & Learn
DESCRIPTION:Join us January 15th at the Nexus Energy Center for a Lunch & Learn presented by this month’s speaker\, EnerSage of Decatur\, AL. Free for Nexus members/$10 for non-members. Lunch is provided\, so come get some great energy-saving tips while you chow down.  \nRSVP here \n  \n \n  \n  \nEnerSage has generously donated a variety of overhead LED lighting styles\, which are installed and ready for viewing in the Nexus Energy Center. Enersage also provides lighting product solutions with an ever expanding portfolio of high-efficiency lighting\, retrofit\, and fixture solutions for both indoor and outdoor applications. Other services (in addition to product sales and engineering) include product installation and financing. As a TVA Preferred Partner\, EnerSage is qualified to submit customers for conservation incentives when they are available. \n  \n  \nShare this:
URL:http://www.nexusenergycenter.org/event/january-lunch-learn/
LOCATION:Nexus Energy Center\, 6767 Old Madison Pike NW 
END:VEVENT
END:VCALENDAR