BEGIN:VCALENDAR
VERSION:2.0
PRODID:-//Nexus Energy Center - ECPv5.1.6//NONSGML v1.0//EN
CALSCALE:GREGORIAN
METHOD:PUBLISH
X-WR-CALNAME:Nexus Energy Center
X-ORIGINAL-URL:http://www.nexusenergycenter.org
X-WR-CALDESC:Events for Nexus Energy Center
BEGIN:VTIMEZONE
TZID:America/Chicago
BEGIN:DAYLIGHT
TZOFFSETFROM:-0600
TZOFFSETTO:-0500
TZNAME:CDT
DTSTART:20150308T080000
END:DAYLIGHT
BEGIN:STANDARD
TZOFFSETFROM:-0500
TZOFFSETTO:-0600
TZNAME:CST
DTSTART:20151101T070000
END:STANDARD
END:VTIMEZONE
BEGIN:VEVENT
DTSTART;TZID=America/Chicago:20150827T113000
DTEND;TZID=America/Chicago:20150830T190000
DTSTAMP:20260423T232232
CREATED:20150827T210756Z
LAST-MODIFIED:20150827T210756Z
UID:7287-1440675000-1440961200@www.nexusenergycenter.org
SUMMARY:Innovation and Entrepreneur Weekend
DESCRIPTION:Nexus Energy Center is excited to be a part of Huntsville’s Innovation and Entrepreneur Weekend! This event celebrates those who dare to think outside the box\, and will connect those with some of Huntsville’s brightest ideas and help set them into motion. \nThe Tiny Green Home will be in attendance at the BizTech SPARK Finale in downtown Huntsville Friday\, August 28th. \nFor more information and to see the full calendar of events\, visit innovatehuntsville.com. \nShare this:
URL:http://www.nexusenergycenter.org/event/innovation-and-entrepreneur-weekend/
CATEGORIES:Tiny House events
ATTACH;FMTTYPE=image/jpeg:http://www.nexusenergycenter.org/wp-content/blogs.dir/2/files/2015/08/4f2fef_6658da33828e4a9d9abcf6d0c0c9d60f.jpg_srz_p_592_919_75_22_0.50_1.20_0.00_jpg_srz-e1440709626620.jpeg
END:VEVENT
END:VCALENDAR