BEGIN:VCALENDAR
VERSION:2.0
PRODID:-//Nexus Energy Center - ECPv5.1.6//NONSGML v1.0//EN
CALSCALE:GREGORIAN
METHOD:PUBLISH
X-WR-CALNAME:Nexus Energy Center
X-ORIGINAL-URL:http://www.nexusenergycenter.org
X-WR-CALDESC:Events for Nexus Energy Center
BEGIN:VTIMEZONE
TZID:America/Chicago
BEGIN:DAYLIGHT
TZOFFSETFROM:-0600
TZOFFSETTO:-0500
TZNAME:CDT
DTSTART:20160313T080000
END:DAYLIGHT
BEGIN:STANDARD
TZOFFSETFROM:-0500
TZOFFSETTO:-0600
TZNAME:CST
DTSTART:20161106T070000
END:STANDARD
END:VTIMEZONE
BEGIN:VEVENT
DTSTART;TZID=America/Chicago:20160224T080000
DTEND;TZID=America/Chicago:20160224T140000
DTSTAMP:20260423T213937
CREATED:20160216T182127Z
LAST-MODIFIED:20160216T182127Z
UID:7589-1456300800-1456322400@www.nexusenergycenter.org
SUMMARY:Inline Electric Supply 2016 Energy Efficiency Expo
DESCRIPTION:Inline Energy Efficiency Expo\n\n\nFor the past few years Inline Electric Supply has hosted the Energy Efficiency Expo events in north and central Alabama. Their goal is to help keep architects\, contractors\, property managers\, facilities maintenance managers and others informed about energy efficient products and strategies. Their shows will introduce you to the latest that the electrical industry has to offer and provide on-site demonstrations and product displays so that you can see the products and savings for yourself. Inline works hard to bring experts in electrical energy savings to present topics to answer questions and broaden the knowledge of our target audience. They also provide seminars and presentations and speaking sessions to help you meet your continuing education requirements. \nAttendance is free\, but registration is required! \nRegister online at InlineEvents.com\n\nShare this:
URL:http://www.nexusenergycenter.org/event/inline-electric-supply-2016-energy-efficiency-expo/
LOCATION:Davidson Center at Space and Rocket Center\, 1 Tranquility Base \, Huntsville\, AL\, 35805
CATEGORIES:Green/Sustainable Events
ATTACH;FMTTYPE=image/jpeg:http://www.nexusenergycenter.org/wp-content/blogs.dir/2/files/2016/02/HSV-Energy-Expo-Brochure-II-page-001-e1455646732563.jpg
END:VEVENT
END:VCALENDAR