BEGIN:VCALENDAR
VERSION:2.0
PRODID:-//Nexus Energy Center - ECPv5.1.6//NONSGML v1.0//EN
CALSCALE:GREGORIAN
METHOD:PUBLISH
X-WR-CALNAME:Nexus Energy Center
X-ORIGINAL-URL:http://www.nexusenergycenter.org
X-WR-CALDESC:Events for Nexus Energy Center
BEGIN:VTIMEZONE
TZID:America/Chicago
BEGIN:DAYLIGHT
TZOFFSETFROM:-0600
TZOFFSETTO:-0500
TZNAME:CDT
DTSTART:20160313T080000
END:DAYLIGHT
BEGIN:STANDARD
TZOFFSETFROM:-0500
TZOFFSETTO:-0600
TZNAME:CST
DTSTART:20161106T070000
END:STANDARD
END:VTIMEZONE
BEGIN:VEVENT
DTSTART;TZID=America/Chicago:20161118T100000
DTEND;TZID=America/Chicago:20161118T150000
DTSTAMP:20260423T182514
CREATED:20160921T163250Z
LAST-MODIFIED:20161013T175827Z
UID:8004-1479463200-1479481200@www.nexusenergycenter.org
SUMMARY:Home Energy Score Training – Montgomery Alabama
DESCRIPTION:Free\n\n\nRSVP to: ruchi@nexusenergycenter.org  \nAttend a FREE training on the U.S. Department of Energy Home Energy Score with Nexus Energy Center. Let experts show you how the Home Energy Score can be an important tool for your clients as they improve their home.\nWith the Home Energy Score tool\, homes are scored on a scale of 1 to 10 with a 10 being the most efficient. Perhaps most important\, the Score can be used to compare different homes or see how homes ranks relative to others. \n… \n \nLike a miles-per-gallon rating for a car\, the Home Energy Score is an easy-to-produce rating designed to help homeowners and homebuyers gain useful information about a home&#146;s energy performance. Based on an in-home assessment that can be completed in less than an hour\, the Home Energy Score not only lets a homeowner understand how efficient the home is and how it compares to others\, but also provides recommendations on how to cost-effectively improve the home&#146;s energy efficiency. \nThe Home Energy Score uses a simple 1-to-10 scale where a 10 represents the most energy efficient homes. \nThe Score was designed to be easily understood and to tap into people&#146;s desire to improve their score or to outperform their peers. \n&#133; \nWhy Use the Home Energy Score? \n1. DOE&#146;s online training and testing are offered free and at your own pace. \n2. Scoring A House Is Even Simpler Now. Many software vendors have integrated the Score into their software products. You can input the data directly into their products or use DOE&#146;s free Scoring Tool online interface. \n3. Multiple Listing Services (MLSs) & States recognize customers want to know more about home energy costs. MLSs are starting to provide the Home Energy Score to buyers. States across the country are adopting the Score to ensure energy efficiency information is consistent and credible. In some cases\, states are offering additional incentives with the Score to encourage upgrades. \n4. New financial incentives make the score attractive to homebuyers. Under a new FHA policy\, homebuyers can qualify for a larger mortgage by buying a home that scores a 6 or higher\, or by making improvements to a less efficient home. This policy reflects the fact that more efficient homes have lower operating costs. Home inspectors are in a great position to bring this opportunity to their clients&#146; attention. \n\n\nShare this:
URL:http://www.nexusenergycenter.org/event/home-energy-score-training-montgomery-alabama/
LOCATION:Alabama Center for Commerce\, 401 Adams Avenue\, Room 360\, Montgomery\, AL\, 36104\, United States
ATTACH;FMTTYPE=image/jpeg:http://www.nexusenergycenter.org/wp-content/blogs.dir/2/files/2016/09/14115612_1065868296816138_3104126526713005345_o-e1474475778569.jpg
END:VEVENT
END:VCALENDAR