BEGIN:VCALENDAR
VERSION:2.0
PRODID:-//Nexus Energy Center - ECPv5.1.6//NONSGML v1.0//EN
CALSCALE:GREGORIAN
METHOD:PUBLISH
X-WR-CALNAME:Nexus Energy Center
X-ORIGINAL-URL:http://www.nexusenergycenter.org
X-WR-CALDESC:Events for Nexus Energy Center
BEGIN:VTIMEZONE
TZID:America/Chicago
BEGIN:DAYLIGHT
TZOFFSETFROM:-0600
TZOFFSETTO:-0500
TZNAME:CDT
DTSTART:20150308T080000
END:DAYLIGHT
BEGIN:STANDARD
TZOFFSETFROM:-0500
TZOFFSETTO:-0600
TZNAME:CST
DTSTART:20151101T070000
END:STANDARD
END:VTIMEZONE
BEGIN:VEVENT
DTSTART;TZID=America/Chicago:20151015T180000
DTEND;TZID=America/Chicago:20151015T210000
DTSTAMP:20260423T183309
CREATED:20150615T181018Z
LAST-MODIFIED:20170711T191150Z
UID:7222-1444932000-1444942800@www.nexusenergycenter.org
SUMMARY:Green Tie Bash honoring Champions of Energy
DESCRIPTION:Nexus Energy Center is excited to host our 2nd Annual Champions of Energy event\, the Green Tie Bash honoring Champions of Energy! \nThis event recognizes organizations\, businesses\, and individuals around the Madison County area that have demonstrated true dedication to energy efficiency and conservation. \nHeld at the stunning Nichols Arbor in the Huntsville Botanical Garden\, this will be a great night of fun celebrating the progress made towards creating energy smart communities. \nThe evening’s keynote speaker will be Mr. Ned Doyle\, long-time sustainability activist and former Director of the Southern Energy & Environment Expo in Asheville\, North Carolina. \nWe hope you&#146;ll join us for an evening of food\, drinks\, and silent auction this October 15th and help us celebrate our community energy champions!\n \nClick here to reserve your seats\nShare this:
URL:http://www.nexusenergycenter.org/event/greentiebash2016/
LOCATION:Huntsville Botanical Garden\, 4747 Bob Wallace Ave SW\, Huntsville\, AL\, 35805\, United States
CATEGORIES:Fundraising
ATTACH;FMTTYPE=image/png:http://www.nexusenergycenter.org/wp-content/blogs.dir/2/files/2015/06/Original-2-e1439315434240.png
END:VEVENT
END:VCALENDAR