BEGIN:VCALENDAR
VERSION:2.0
PRODID:-//Nexus Energy Center - ECPv5.1.6//NONSGML v1.0//EN
CALSCALE:GREGORIAN
METHOD:PUBLISH
X-WR-CALNAME:Nexus Energy Center
X-ORIGINAL-URL:http://www.nexusenergycenter.org
X-WR-CALDESC:Events for Nexus Energy Center
BEGIN:VTIMEZONE
TZID:America/Chicago
BEGIN:DAYLIGHT
TZOFFSETFROM:-0600
TZOFFSETTO:-0500
TZNAME:CDT
DTSTART:20160313T080000
END:DAYLIGHT
BEGIN:STANDARD
TZOFFSETFROM:-0500
TZOFFSETTO:-0600
TZNAME:CST
DTSTART:20161106T070000
END:STANDARD
END:VTIMEZONE
BEGIN:VEVENT
DTSTART;TZID=America/Chicago:20161013T180000
DTEND;TZID=America/Chicago:20161013T210000
DTSTAMP:20260424T003108
CREATED:20160830T104532Z
LAST-MODIFIED:20160830T114246Z
UID:7928-1476381600-1476392400@www.nexusenergycenter.org
SUMMARY:Green Tie Bash 2016
DESCRIPTION:Click here for more info!\nShare this:
URL:http://www.nexusenergycenter.org/event/green-tie-bash-2016/
LOCATION:Meadowcreek Farms\, 9306 Pulaski Pike\, Toney\, AL\, United States
ATTACH;FMTTYPE=image/png:http://www.nexusenergycenter.org/wp-content/blogs.dir/2/files/2015/08/UNIVERSITY-PRESS-e1472557354844.png
END:VEVENT
END:VCALENDAR