BEGIN:VCALENDAR
VERSION:2.0
PRODID:-//Nexus Energy Center - ECPv5.1.6//NONSGML v1.0//EN
CALSCALE:GREGORIAN
METHOD:PUBLISH
X-WR-CALNAME:Nexus Energy Center
X-ORIGINAL-URL:http://www.nexusenergycenter.org
X-WR-CALDESC:Events for Nexus Energy Center
BEGIN:VTIMEZONE
TZID:America/Chicago
BEGIN:DAYLIGHT
TZOFFSETFROM:-0600
TZOFFSETTO:-0500
TZNAME:CDT
DTSTART:20160313T080000
END:DAYLIGHT
BEGIN:STANDARD
TZOFFSETFROM:-0500
TZOFFSETTO:-0600
TZNAME:CST
DTSTART:20161106T070000
END:STANDARD
END:VTIMEZONE
BEGIN:VEVENT
DTSTART;TZID=America/Chicago:20160314T080000
DTEND;TZID=America/Chicago:20160318T220000
DTSTAMP:20260423T183246
CREATED:20160121T171330Z
LAST-MODIFIED:20160121T171330Z
UID:7519-1457942400-1458338400@www.nexusenergycenter.org
SUMMARY:Good People Brewing Charity Beer of the Week
DESCRIPTION:The week of March 14-18\, we will be Good People Brewing’s Charity Beer of the Week! \nA portion of this week’s proceeds from a selected Good People beer will go directly to Nexus Energy Center. \nGood People Brewing is Alabama’s oldest and largest brewery\, located in Birmingham\, Alabama. \nFor more information\, visit www.goodpeoplebrewing.com \nShare this:
URL:http://www.nexusenergycenter.org/event/good-people-brewing-charity-beer-of-the-week/
LOCATION:Good People Brewing Co.\, 114 14th St. S\, Birmingham\, AL\, 35233\, United States
CATEGORIES:Fundraising
ATTACH;FMTTYPE=image/png:http://www.nexusenergycenter.org/wp-content/blogs.dir/2/files/2016/01/10418530_10153244736044988_7247003724344603990_n.png
END:VEVENT
END:VCALENDAR