BEGIN:VCALENDAR
VERSION:2.0
PRODID:-//Nexus Energy Center - ECPv5.1.6//NONSGML v1.0//EN
CALSCALE:GREGORIAN
METHOD:PUBLISH
X-WR-CALNAME:Nexus Energy Center
X-ORIGINAL-URL:http://www.nexusenergycenter.org
X-WR-CALDESC:Events for Nexus Energy Center
BEGIN:VTIMEZONE
TZID:America/Chicago
BEGIN:DAYLIGHT
TZOFFSETFROM:-0600
TZOFFSETTO:-0500
TZNAME:CDT
DTSTART:20180311T080000
END:DAYLIGHT
BEGIN:STANDARD
TZOFFSETFROM:-0500
TZOFFSETTO:-0600
TZNAME:CST
DTSTART:20181104T070000
END:STANDARD
END:VTIMEZONE
BEGIN:VEVENT
DTSTART;TZID=America/Chicago:20180614T180000
DTEND;TZID=America/Chicago:20180614T210000
DTSTAMP:20260423T153229
CREATED:20180518T203842Z
LAST-MODIFIED:20180605T195146Z
UID:9762-1528999200-1529010000@www.nexusenergycenter.org
SUMMARY:Go Fore The Green 2018
DESCRIPTION:Join us for our 1st Go Fore The Green 2018 fundraiser at the brand new Topgolf Huntsville facility and will include golf contests\, a silent auction\, a cash bar and Topgolf’s delicious Fiesta Buffet!\nReady to play? Just want to watch? Interested in sponsorship opportunities for your organization? Just want to make a donation? \nEither way\, YOUR participation helps support our mission to build a smart energy future for communities across Alabama! There will also be 3 awards up for grabs at this years GFTG 2018: Best Male Contender\, Best Female Contender and Best Team Contender! \nProceeds from the event will benefit Nexus Energy Center\, a north Alabama based 501(c)(3) non-profit organization dedicated to promoting a smart energy future for communities across our state through educational outreach as well as energy-efficiency programs & services for both homeowners and businesses. \nStay tuned for more exciting new updates leading up to Go Fore The Green 2018 on Facebook!\n#GFTG2018 #GoForeTheGreen2018 #NexusEnergyCenter #SmartEnergyAL  \n\nHow To Participate?\n\nIndividual tickets and sponsorship packages are available for purchase online: https://gftg2018.eventbrite.com \nOR Mail a check payable to ‘Nexus Energy Center’ to: 320 Production Ave.\, Madison\, AL 35758\n– Include in the check memo: GFTG 2018 & name of sponsor level (ex. The Gallery\, Singles\, Match Play\, Par\, Birdie or Eagle)\n– Include your contact name and email address. We will need that information when you register at the event\, but we would also like to send updates leading up to the event about golf contests & awards\, food and silent auction items.\n \nSee ticket and sponsorship info: GFTG 2018 Sponsorship Flyer. \n  \n\nWant to help Volunteer at GFTG 20http://www.nexusenergycenter.org/wp-admin/profile.php18?\nCheck out a list of available volunteer times and needs HERE. \n\n\nSilent Auction Items\n\n\nGolf’s Big 3 Masters Champions Autographed 16×20 Photo & Golf Ball Display\n\n \n\nArnold Palmer\, Jack Nicklaus & Gary Player Masters Champions Limited Edition 3-D Autographed 16×20 Photo & Golf Ball Display\n\n\nIndividually Numbered Exclusive Limited Edition of only 25 available in the world!\n\n  \n \n\nClose-Up image of Official Masters Golf Ball incorporated into display with half of the golf ball protruding out of the plexiglass for a unique 3-Dimensional display.\n\n \n \n  \n\nArnold Palmer Autographed 11×14 Photo\n\n\n \n \n \n\nArnold Palmer Autographed 11×14 photo\n\n \n \n \n \n \n \n\nPhil Mickelson Autographed 11×14 Photo\n\n\n\n \n \n  \n\nPhil Mickelson Autographed 11×14 photo\n\n\n\n \n \n \n \n \n  \n\nCaddyshack Cast Autographed 11×14 Movie Poster \n\n \n  \n\n \n  \n\n\nChevy Chase\, Bill Murray\, Michael O’Keefe\, Cindy Morgan and Harold Ramis (Director) autographed movie poster\n\n \n \n \n \n  \n\nElon Musk Autographed Rolling Stone Magazine Cover \n\n\n \n \n  \n\nNovember 30\, 2017 Rolling Stone Magazine “The Architect of Tomorrow” autographed cover\n\n  \n\n  \n  \n \nMuhammad Ali Autographed 11×14 Photo\n\n \n  \n  \n\nMuhammad Ali vs. Sonny Liston autographed photo.\n\n\nOne of Time Magazine’s Top 100 Photos!\n\n  \n  \n\n\n\n\n\n  \n  \n\n\nMichael Jordan Autographed Nike Air Jordan 1 Sneaker\n\n \n\nMichael Jordan autographed Nike Air Jordan 1 (1985) Basketball Sneaker\n\nIndividually Numbered Exclusive Limited Edition of only 50 available in the world!\n\n  \n\nDisplay: This item comes in it’s own custom designed 5 inch thick shadowbox display frame with an 11×14 photo of Mr. Jordan (when he won the Slam Dunk Contest)\, a Chicago Bulls Official “Decade Of Dominance” Patch (showing all years Mr. Jordan won his 6 NBA Championships)\, a Chicago Bulls Official “20th Year Anniversary” Patch\, custom designed nameplate with career achievement stats and the Air Jordan 1 Nike Sneaker signed by Mr. Jordan – museum quality. Please note: This is the actual Air Jordan 1 Sneaker in a 5 inch thick shadowbox frame. It is NOT a picture of the Air Jordan 1 Sneaker\n \n \n  \n\nApollo 11 Autographed 11X14 Photo\n\n\n \n \n  \n\nApollo 11 photo autographed by Neil Armstrong\, Buzz Aldrin and Michael Collins\n\n \n \n \n \n \n  \n\nBlack Panther Autographed 16×20 Movie Poster\n\n\n \n  \n\nChadwick Boseman (Black Panther)\, Michael B. Jordan (Erik Killmonger)\, Lupita Nyong’o (Nakia)\, Danai Gurira (Okoye)\, Martin Freeman (Everett K. Ross)\, Forest Whitaker (Zuri)\, Andy Serkis (Klaw) and Stan Lee (Creator) autographed movie poster\n\n \n \n \n \n  \n\nProfessional Business Photo Portrait by Steven Babin Photography\n\n \n \n  \n\nEdited photo delivered digitally\, in full resolution and with complete usage/printing rights. Can shoot in studio or on location.\n\n  \n  \n  \n\n\nThank you to our Sponsors!\n\n\nEAGLE Presenting Sponsor\n\n\n  \n  \n  \n\n\nBIRDIE Sponsors\n\n \n  \n\n  \n\n\nPAR Sponsors\n\n                            \n        \n  \n  \n\nMATCH PLAY Sponsors\n\n \n \n  \n  \n  \nFor more information and/or to learn more about Nexus Energy Center: contactus@nexusenergycenter.org \nShare this:
URL:http://www.nexusenergycenter.org/event/go-fore-green-2018/
LOCATION:Topgolf Huntsville\, 6100 Topgolf Dr NW \, Huntsville\, AL\, 35806\, United States
CATEGORIES:Fundraising
END:VEVENT
END:VCALENDAR