BEGIN:VCALENDAR
VERSION:2.0
PRODID:-//Nexus Energy Center - ECPv5.1.6//NONSGML v1.0//EN
CALSCALE:GREGORIAN
METHOD:PUBLISH
X-WR-CALNAME:Nexus Energy Center
X-ORIGINAL-URL:http://www.nexusenergycenter.org
X-WR-CALDESC:Events for Nexus Energy Center
BEGIN:VTIMEZONE
TZID:America/Chicago
BEGIN:DAYLIGHT
TZOFFSETFROM:-0600
TZOFFSETTO:-0500
TZNAME:CDT
DTSTART:20150308T080000
END:DAYLIGHT
BEGIN:STANDARD
TZOFFSETFROM:-0500
TZOFFSETTO:-0600
TZNAME:CST
DTSTART:20151101T070000
END:STANDARD
END:VTIMEZONE
BEGIN:VEVENT
DTSTART;TZID=America/Chicago:20151113T090000
DTEND;TZID=America/Chicago:20151113T120000
DTSTAMP:20260423T184204
CREATED:20151026T171634Z
LAST-MODIFIED:20151026T171634Z
UID:7378-1447405200-1447416000@www.nexusenergycenter.org
SUMMARY:First Baptist Church Fellowship Group Presentation
DESCRIPTION:First Baptist Church of Huntsville\, AL\, has invited the Nexus Energy Center team to come and speak to their senior fellowship group about saving energy in their homes and the importance of energy efficiency to our community. \nWe will also be bringing the Tiny House to further highlight the features of energy efficient living spaces! \nThe First Baptist Church is located at 600 Governors Drive SW in Huntsville\, AL. \n  \nShare this:
URL:http://www.nexusenergycenter.org/event/first-baptist-church-fellowship-group-presentation/
LOCATION:First Baptist Church
CATEGORIES:Tiny House events
ATTACH;FMTTYPE=image/jpeg:http://www.nexusenergycenter.org/wp-content/blogs.dir/2/files/2015/10/depositphotos_9907201-Historic-First-Baptist-Church-in-Huntsville-Alabama-e1445879751112.jpg
END:VEVENT
END:VCALENDAR