BEGIN:VCALENDAR
VERSION:2.0
PRODID:-//Nexus Energy Center - ECPv5.1.6//NONSGML v1.0//EN
CALSCALE:GREGORIAN
METHOD:PUBLISH
X-WR-CALNAME:Nexus Energy Center
X-ORIGINAL-URL:http://www.nexusenergycenter.org
X-WR-CALDESC:Events for Nexus Energy Center
BEGIN:VTIMEZONE
TZID:America/Chicago
BEGIN:DAYLIGHT
TZOFFSETFROM:-0600
TZOFFSETTO:-0500
TZNAME:CDT
DTSTART:20160313T080000
END:DAYLIGHT
BEGIN:STANDARD
TZOFFSETFROM:-0500
TZOFFSETTO:-0600
TZNAME:CST
DTSTART:20161106T070000
END:STANDARD
END:VTIMEZONE
BEGIN:VEVENT
DTSTART;TZID=America/Chicago:20161110T090000
DTEND;TZID=America/Chicago:20161110T100000
DTSTAMP:20260423T225239
CREATED:20160922T140759Z
LAST-MODIFIED:20160922T141319Z
UID:8015-1478768400-1478772000@www.nexusenergycenter.org
SUMMARY:Energy Symposium
DESCRIPTION:Energy 2016 Symposium presents more than 60 sessions on a wide variety of topics. Nearly 100 experts from around the country will be there to teach\, share their experiences\, knowledge\, and ideas.\nThe Energy 2016 Symposium Seminar Training Event will: \n&#149; Provide an effective and efficient forum to obtain valuable training\n&#149; Provide CEUs\, PDUs\n&#149; Facilitate the application of best practices\n&#149; Cover topics related to energy efficiency\, renewable energy\, CHP\, water efficiency\, financing/contracting\, energy storage\, sustainability and more\n&#149; Demonstrate the connection between actions and impacts as related to energy consumption\, sustainability\, energy efficiency\, and energy security\n&#149; Feature expertise from all levels of project and policy implementation to enable federal\, state and local government agencies\, hospitals\, schools and universities to reduce energy consumption and costs: meeting energy-related goals \n… \n \nThis years Symposium will take place at Birmingham\, Alabama between 7 – 10 of November. \nNexus Energy Center is invited to give a speech on “Alabama Home Energy Score: Promoting Energy Efficiency & Conservation through Technologies”. Our executive director Ruchi Singhal is going to represent us in the Symposium on the 10th of November\, at 9 am. \n\nWHY ATTEND ENERGY 2016 SYMPOSIUM?\nEnergy 2016 Symposium is designed to help you do your job better by giving you details on the latest energy-saving strategies and products\, opportunities to network with your colleagues to discuss new applications and strategies\, and information from the experts on successful case studies and projects. \nCome to Energy 2016 Symposium to learn from your peers and industry leaders on how to reduce energy consumption/cost at your facility\, earn credits that are required for your current position or a future position.  Examine real case studies\, presented by the people involved\, and learn what has worked well and what has been a challenge.  Learn from different agencies on how they are effectively utilizing technologies and existing contract vehicles to achieve significant energy conservation results. Get back to sound energy basics or to learn about specific technologies and strategies that will help your facility meet your goals\, mandates and receive awards/rebates \nEnergy 2016 Symposium sessions are intentionally focused on areas of learning that energy stakeholders can use immediately to make the biggest impact on their day to day jobs.  If you are one of the many people charged with reducing your facility&#146;s energy consumption or helping the government take the next step forward in achieving its energy efficiency and renewable mandates\, this is your training event. \n  \n  \n  \n \n  \nYour can find more info on the Energy Symposium here. \nShare this:
URL:http://www.nexusenergycenter.org/event/energy-symposium/
LOCATION:Sheraton Birmingham Hotel\, 2101 Richard Arrington Jr. Blvd North\, Birmingham\, AL\, 35203\, United States
END:VEVENT
END:VCALENDAR