BEGIN:VCALENDAR
VERSION:2.0
PRODID:-//Nexus Energy Center - ECPv5.1.6//NONSGML v1.0//EN
CALSCALE:GREGORIAN
METHOD:PUBLISH
X-WR-CALNAME:Nexus Energy Center
X-ORIGINAL-URL:http://www.nexusenergycenter.org
X-WR-CALDESC:Events for Nexus Energy Center
BEGIN:VTIMEZONE
TZID:America/Chicago
BEGIN:DAYLIGHT
TZOFFSETFROM:-0600
TZOFFSETTO:-0500
TZNAME:CDT
DTSTART:20160313T080000
END:DAYLIGHT
BEGIN:STANDARD
TZOFFSETFROM:-0500
TZOFFSETTO:-0600
TZNAME:CST
DTSTART:20161106T070000
END:STANDARD
END:VTIMEZONE
BEGIN:VEVENT
DTSTART;TZID=America/Chicago:20161115T080000
DTEND;TZID=America/Chicago:20161118T170000
DTSTAMP:20260423T211733
CREATED:20160922T145923Z
LAST-MODIFIED:20160922T145923Z
UID:8024-1479196800-1479488400@www.nexusenergycenter.org
SUMMARY:Energy Summit Huntsville
DESCRIPTION:&#147;Energy is big business.  It&#146;s also small business and a government mission.  Energy Summit 2016 brings participants from all three together under one roof for two days to foster business and mission success.&#148; \nYou can find the agenda of the Summit here and more info here. \n \nDo not miss out to learn and get involved with one of the biggest Energy Events of our community! \nBe there! \nShare this:
URL:http://www.nexusenergycenter.org/event/energy-summit-huntsville/
LOCATION:U.S. Space & Rocket Center\, 1 Tranquility Base\, Huntsville\, AL\, 35805\, United States
ATTACH;FMTTYPE=image/png:http://www.nexusenergycenter.org/wp-content/blogs.dir/2/files/2016/09/Energy-Huntsville-Logo-2.png
END:VEVENT
END:VCALENDAR