BEGIN:VCALENDAR
VERSION:2.0
PRODID:-//Nexus Energy Center - ECPv5.1.6//NONSGML v1.0//EN
CALSCALE:GREGORIAN
METHOD:PUBLISH
X-WR-CALNAME:Nexus Energy Center
X-ORIGINAL-URL:http://www.nexusenergycenter.org
X-WR-CALDESC:Events for Nexus Energy Center
BEGIN:VTIMEZONE
TZID:America/Chicago
BEGIN:DAYLIGHT
TZOFFSETFROM:-0600
TZOFFSETTO:-0500
TZNAME:CDT
DTSTART:20170312T080000
END:DAYLIGHT
BEGIN:STANDARD
TZOFFSETFROM:-0500
TZOFFSETTO:-0600
TZNAME:CST
DTSTART:20171105T070000
END:STANDARD
END:VTIMEZONE
BEGIN:VEVENT
DTSTART;TZID=America/Chicago:20170301T080000
DTEND;TZID=America/Chicago:20170301T200000
DTSTAMP:20260423T182310
CREATED:20170403T152136Z
LAST-MODIFIED:20170403T152136Z
UID:8410-1488355200-1488398400@www.nexusenergycenter.org
SUMMARY:Energy EXPO Efficiency
DESCRIPTION:The 2017 Inline Electric Supply Energy Efficiency Expo continues to explore the future of energy efficiency products and strategies. We’ll introduce you to the latest our industry has to offer and provide on-site demonstrations to allow you to see the savings for yourself. Experts will be present to answer any questions. \n  \n \nShare this:
URL:http://www.nexusenergycenter.org/event/energy-expo-efficiency/
LOCATION:U.S. Space & Rocket Center\, 1 Tranquility Base\, Huntsville\, AL\, 35805\, United States
ATTACH;FMTTYPE=image/png:http://www.nexusenergycenter.org/wp-content/blogs.dir/2/files/2017/04/Screenshot-at-Apr-03-17-55-52.png
END:VEVENT
END:VCALENDAR