BEGIN:VCALENDAR
VERSION:2.0
PRODID:-//Nexus Energy Center - ECPv5.1.6//NONSGML v1.0//EN
CALSCALE:GREGORIAN
METHOD:PUBLISH
X-WR-CALNAME:Nexus Energy Center
X-ORIGINAL-URL:http://www.nexusenergycenter.org
X-WR-CALDESC:Events for Nexus Energy Center
BEGIN:VTIMEZONE
TZID:America/Chicago
BEGIN:DAYLIGHT
TZOFFSETFROM:-0600
TZOFFSETTO:-0500
TZNAME:CDT
DTSTART:20160313T080000
END:DAYLIGHT
BEGIN:STANDARD
TZOFFSETFROM:-0500
TZOFFSETTO:-0600
TZNAME:CST
DTSTART:20161106T070000
END:STANDARD
END:VTIMEZONE
BEGIN:VEVENT
DTSTART;TZID=America/Chicago:20160809T080000
DTEND;TZID=America/Chicago:20160811T170000
DTSTAMP:20260424T003441
CREATED:20160802T210027Z
LAST-MODIFIED:20160802T210619Z
UID:7842-1470729600-1470934800@www.nexusenergycenter.org
SUMMARY:Energy Exchange Forum
DESCRIPTION:The Energy Exchange is an educational and networking forum for those seeking to expand their knowledge of building operations\, energy management\, and sustainability in the federal sector. \nOrganized by the U.S. Department of Energy&#146;s Federal Energy Management Program\, the Energy Exchange brings together experts from different technical disciplines to share cost-effective\, actionable solutions to help federal agencies meet and track their energy-related requirements and goals. \nThis year\, our Ruchi\, representing Nexus Energy Center\, was invited to talk on “Long Term Energy Efficiency”. \nSpeakers include the Department of Energy\, the US Army Corps of Engineers\, and the Nexus Energy Center. The panel will describe how adopting a long-term view allows you to see the entire picture\, and to develop capital strategies that address execution in a logical and sequential manner over the long haul. \nWe are very proud and excited! We promise to share with you the insights we will be getting from this major event. \nWhen? Thursday August 11th\, from 9:45-11:45 \nWhere? Rhode Island Convention Center\, Providence Rhode Island \n \nShare this:
URL:http://www.nexusenergycenter.org/event/energy-exchange-forum/
LOCATION:Rhode Island Convention Center\, United States
END:VEVENT
END:VCALENDAR