BEGIN:VCALENDAR
VERSION:2.0
PRODID:-//Nexus Energy Center - ECPv5.1.6//NONSGML v1.0//EN
CALSCALE:GREGORIAN
METHOD:PUBLISH
X-WR-CALNAME:Nexus Energy Center
X-ORIGINAL-URL:http://www.nexusenergycenter.org
X-WR-CALDESC:Events for Nexus Energy Center
BEGIN:VTIMEZONE
TZID:America/Chicago
BEGIN:DAYLIGHT
TZOFFSETFROM:-0600
TZOFFSETTO:-0500
TZNAME:CDT
DTSTART:20160313T080000
END:DAYLIGHT
BEGIN:STANDARD
TZOFFSETFROM:-0500
TZOFFSETTO:-0600
TZNAME:CST
DTSTART:20161106T070000
END:STANDARD
END:VTIMEZONE
BEGIN:VEVENT
DTSTART;TZID=America/Chicago:20160402T090000
DTEND;TZID=America/Chicago:20160402T170000
DTSTAMP:20260423T164543
CREATED:20160121T171933Z
LAST-MODIFIED:20160325T161352Z
UID:7522-1459587600-1459616400@www.nexusenergycenter.org
SUMMARY:Earth Day at U.S. Space & Rocket Center
DESCRIPTION:On April 2nd\, bring the whole family to the U. S. Space & Rocket Center for a day celebrating earth\, science\, space\, AND energy! \nNexus Energy Center will be partnering with the U.S. Space & Rocket Center to host an event in observation of Earth Day\, a day of appreciation and learning about the beautiful green planet that we call home. Enjoy hands-on learning experiences about a variety of topics\, from water conservation and composting to renewable energy sources and wildlife protection. \nThere will be lots of “green” exhibits and plenty of activities for kids\, including face painting\, moon bounces\, and more! Earth Day activities included in the price of regular museum admission. \n  \nLearn and interact with organizations such as: \nAlabama Wildlife Center \nAlabama Center for Sustainable Energy \nWater Wheels \nMadison County Beekeepers Association \nMaster Gardeners of North Alabama \nADTRAN \nAlabama Solar Association \nLand Trust of North Alabama \nAetos Systems \nStudent Chapter of the American Meteorological Society/National Weather Association \nGreen 3 Ways \nAMRDEC \n  \nShare this:
URL:http://www.nexusenergycenter.org/event/earthday/
LOCATION:Davidson Center at Space and Rocket Center\, 1 Tranquility Base \, Huntsville\, AL\, 35805
CATEGORIES:Family Events
ATTACH;FMTTYPE=image/png:http://www.nexusenergycenter.org/wp-content/blogs.dir/2/files/2016/01/Earth-Day-2016-2-e1457033890408.png
END:VEVENT
END:VCALENDAR