BEGIN:VCALENDAR
VERSION:2.0
PRODID:-//Nexus Energy Center - ECPv5.1.6//NONSGML v1.0//EN
CALSCALE:GREGORIAN
METHOD:PUBLISH
X-WR-CALNAME:Nexus Energy Center
X-ORIGINAL-URL:http://www.nexusenergycenter.org
X-WR-CALDESC:Events for Nexus Energy Center
BEGIN:VTIMEZONE
TZID:America/Chicago
BEGIN:DAYLIGHT
TZOFFSETFROM:-0600
TZOFFSETTO:-0500
TZNAME:CDT
DTSTART:20150308T080000
END:DAYLIGHT
BEGIN:STANDARD
TZOFFSETFROM:-0500
TZOFFSETTO:-0600
TZNAME:CST
DTSTART:20151101T070000
END:STANDARD
END:VTIMEZONE
BEGIN:VEVENT
DTSTART;TZID=America/Chicago:20150419T090000
DTEND;TZID=America/Chicago:20150419T170000
DTSTAMP:20260424T064229
CREATED:20150325T210627Z
LAST-MODIFIED:20150325T210926Z
UID:7051-1429434000-1429462800@www.nexusenergycenter.org
SUMMARY:Earth Day Celebration at Monte Sano State Park
DESCRIPTION:Join us April 19th at Monte Sano State Park to celebrate Earth Day! We’ll be bringing our Tiny Green House\, as well as joining the other green vendors and exhibitors that will be there for this day of family fun on the mountain. \nShare this:
URL:http://www.nexusenergycenter.org/event/earth-day-celebration-at-monte-sano-state-park/
LOCATION:Monte Sano State Park\, AL\, United States
ATTACH;FMTTYPE=image/jpeg:http://www.nexusenergycenter.org/wp-content/blogs.dir/2/files/2015/03/2015-03-12-1426188041-1888511-EarthDay-e1427317752971.jpg
END:VEVENT
END:VCALENDAR