BEGIN:VCALENDAR
VERSION:2.0
PRODID:-//Nexus Energy Center - ECPv5.1.6//NONSGML v1.0//EN
CALSCALE:GREGORIAN
METHOD:PUBLISH
X-WR-CALNAME:Nexus Energy Center
X-ORIGINAL-URL:http://www.nexusenergycenter.org
X-WR-CALDESC:Events for Nexus Energy Center
BEGIN:VTIMEZONE
TZID:America/Chicago
BEGIN:DAYLIGHT
TZOFFSETFROM:-0600
TZOFFSETTO:-0500
TZNAME:CDT
DTSTART:20150308T080000
END:DAYLIGHT
BEGIN:STANDARD
TZOFFSETFROM:-0500
TZOFFSETTO:-0600
TZNAME:CST
DTSTART:20151101T070000
END:STANDARD
END:VTIMEZONE
BEGIN:VEVENT
DTSTART;TZID=America/Chicago:20150515T180000
DTEND;TZID=America/Chicago:20150515T210000
DTSTAMP:20260423T205855
CREATED:20150511T195404Z
LAST-MODIFIED:20150511T195404Z
UID:7153-1431712800-1431723600@www.nexusenergycenter.org
SUMMARY:Downtown Huntsville Street Food Gathering
DESCRIPTION:The Tiny Green House will be at this month’s Downtown Huntsville Food Truck Gathering! \nHuntsville has recently received national recognition for their food truck rallies\, and we can’t wait to be a part of this favorite local event. \nFind out more information at downtownhuntsville.org! \nShare this:
URL:http://www.nexusenergycenter.org/event/downtown-huntsville-street-food-gathering/
LOCATION:Big Spring Park\, Huntsville\, AL\, United States
ATTACH;FMTTYPE=image/jpeg:http://www.nexusenergycenter.org/wp-content/blogs.dir/2/files/2015/05/second-downtown-street-food-gathering-flyerjpg-6634b0425babb2b1-e1431373937844.jpg
END:VEVENT
END:VCALENDAR