BEGIN:VCALENDAR
VERSION:2.0
PRODID:-//Nexus Energy Center - ECPv5.1.6//NONSGML v1.0//EN
CALSCALE:GREGORIAN
METHOD:PUBLISH
X-WR-CALNAME:Nexus Energy Center
X-ORIGINAL-URL:http://www.nexusenergycenter.org
X-WR-CALDESC:Events for Nexus Energy Center
BEGIN:VTIMEZONE
TZID:America/Chicago
BEGIN:DAYLIGHT
TZOFFSETFROM:-0600
TZOFFSETTO:-0500
TZNAME:CDT
DTSTART:20160313T080000
END:DAYLIGHT
BEGIN:STANDARD
TZOFFSETFROM:-0500
TZOFFSETTO:-0600
TZNAME:CST
DTSTART:20161106T070000
END:STANDARD
END:VTIMEZONE
BEGIN:VEVENT
DTSTART;TZID=America/Chicago:20161212T170000
DTEND;TZID=America/Chicago:20161212T210000
DTSTAMP:20260423T164636
CREATED:20161108T180905Z
LAST-MODIFIED:20161111T101129Z
UID:8110-1481562000-1481576400@www.nexusenergycenter.org
SUMMARY:Christmas Open House
DESCRIPTION:This year’s Christmas Open House will take place at the amazing Straight to Ale brewery on December 12th\, between 5 and 9 pm.\n\n \nTo make the night even more magical\, this event will be a Brews to Benefit night\, which means that proceeds from beer sales will go to support the community work Nexus Energy Center is doing through the Comfort project and the AlabamaWISE project.\n \n\nSo you know what they say: Save water\, Drink beer.\nIt’s for a good cause. \n\n\n\n\n\n\n\n\n\n\n\n\n      \n\nShare this:
URL:http://www.nexusenergycenter.org/event/christmas-open-house/
LOCATION:Straight To Ale\,\,  Campus 805 – 2610 Clinton Avenue West\, Huntsville\, 35805\, United States
ATTACH;FMTTYPE=image/jpeg:http://www.nexusenergycenter.org/wp-content/blogs.dir/2/files/2016/11/Brews-to-benefit-start.jpeg
END:VEVENT
END:VCALENDAR