BEGIN:VCALENDAR
VERSION:2.0
PRODID:-//Nexus Energy Center - ECPv5.1.6//NONSGML v1.0//EN
CALSCALE:GREGORIAN
METHOD:PUBLISH
X-WR-CALNAME:Nexus Energy Center
X-ORIGINAL-URL:http://www.nexusenergycenter.org
X-WR-CALDESC:Events for Nexus Energy Center
BEGIN:VTIMEZONE
TZID:America/Chicago
BEGIN:DAYLIGHT
TZOFFSETFROM:-0600
TZOFFSETTO:-0500
TZNAME:CDT
DTSTART:20150308T080000
END:DAYLIGHT
BEGIN:STANDARD
TZOFFSETFROM:-0500
TZOFFSETTO:-0600
TZNAME:CST
DTSTART:20151101T070000
END:STANDARD
END:VTIMEZONE
BEGIN:VEVENT
DTSTART;TZID=America/Chicago:20151120T160000
DTEND;TZID=America/Chicago:20151120T210000
DTSTAMP:20260423T184102
CREATED:20151112T223229Z
LAST-MODIFIED:20151112T223229Z
UID:7443-1448035200-1448053200@www.nexusenergycenter.org
SUMMARY:Chili's Benefit Night
DESCRIPTION:Chili’s on University Drive is hosting a benefit night for CASA of Madison County and the Nexus Energy Center Comfort Project! \nFriday\, November 20th\, bring your family and friends out for dinner and 10% of all the proceeds made during the night will be given to CASA of Madison County and the Comfort Project. CASA (Care Assurance System for the Aging and Homebound) of Madison County has provided weatherization for seniors for more than 30 years. Their weatherization services help keep our seniors warm during the winter and help lower their utility bills. CASA of Madison County\, in collaboration with Nexus Energy Center\, is working towards more permanent solutions for energy efficient improvements for our seniors&#146; homes through the Comfort Project. Funds raised will help expand current weatherization efforts so we can reach more of our aging community. \nSee more info and invite your friends here! \nShare this:
URL:http://www.nexusenergycenter.org/event/chilis-benefit-night/
LOCATION:Chili’s Bar and Grill\, 4925 University Dr.\, Suite B\, Huntsville\, AL\, 35816\, United States
CATEGORIES:Fundraising
ATTACH;FMTTYPE=image/jpeg:http://www.nexusenergycenter.org/wp-content/blogs.dir/2/files/2015/11/Untitled-design-4-e1447367365984.jpg
END:VEVENT
END:VCALENDAR