BEGIN:VCALENDAR
VERSION:2.0
PRODID:-//Nexus Energy Center - ECPv5.1.6//NONSGML v1.0//EN
CALSCALE:GREGORIAN
METHOD:PUBLISH
X-WR-CALNAME:Nexus Energy Center
X-ORIGINAL-URL:http://www.nexusenergycenter.org
X-WR-CALDESC:Events for Nexus Energy Center
BEGIN:VTIMEZONE
TZID:America/Chicago
BEGIN:DAYLIGHT
TZOFFSETFROM:-0600
TZOFFSETTO:-0500
TZNAME:CDT
DTSTART:20140309T080000
END:DAYLIGHT
BEGIN:STANDARD
TZOFFSETFROM:-0500
TZOFFSETTO:-0600
TZNAME:CST
DTSTART:20141102T070000
END:STANDARD
END:VTIMEZONE
BEGIN:VEVENT
DTSTART;TZID=America/Chicago:20141017T180000
DTEND;TZID=America/Chicago:20141017T220000
DTSTAMP:20260425T071312
CREATED:20140806T162422Z
LAST-MODIFIED:20140909T144314Z
UID:6608-1413568800-1413583200@www.nexusenergycenter.org
SUMMARY:Champions of Energy
DESCRIPTION:Come join us for dinner\, drinks and a silent auction as we honor those who have been Champions of Energy in our community!\n \nEnjoy a night of fun and preview this year’s “Quacktivity” games as we kick-off the Second Annual Lucky Duck Days \nCocktail Attire. \nPlease RSVP here.  \n  \nShare this:
URL:http://www.nexusenergycenter.org/event/champions-energy/
ATTACH;FMTTYPE=image/jpeg:http://www.nexusenergycenter.org/wp-content/blogs.dir/2/files/2014/08/Champions-of-Energy-Gala-Invitation.jpg
END:VEVENT
END:VCALENDAR