BEGIN:VCALENDAR
VERSION:2.0
PRODID:-//Nexus Energy Center - ECPv5.1.6//NONSGML v1.0//EN
CALSCALE:GREGORIAN
METHOD:PUBLISH
X-WR-CALNAME:Nexus Energy Center
X-ORIGINAL-URL:http://www.nexusenergycenter.org
X-WR-CALDESC:Events for Nexus Energy Center
BEGIN:VTIMEZONE
TZID:America/Chicago
BEGIN:DAYLIGHT
TZOFFSETFROM:-0600
TZOFFSETTO:-0500
TZNAME:CDT
DTSTART:20170312T080000
END:DAYLIGHT
BEGIN:STANDARD
TZOFFSETFROM:-0500
TZOFFSETTO:-0600
TZNAME:CST
DTSTART:20171105T070000
END:STANDARD
END:VTIMEZONE
BEGIN:VEVENT
DTSTART;TZID=America/Chicago:20170329T160000
DTEND;TZID=America/Chicago:20170329T200000
DTSTAMP:20260424T002309
CREATED:20170403T144821Z
LAST-MODIFIED:20170403T144821Z
UID:8407-1490803200-1490817600@www.nexusenergycenter.org
SUMMARY:Bosch Inverter Systems Training Huntsville
DESCRIPTION:Bosch high efficiency Heat pump class 18 seer inverter technology! \nContinuing education credits include 4 hours and offers 4 hours for NATE. \nTo reserve your seat\, contact Richard Shivers at 205 482 5493 or by email at rshivers@bakerdist.com \nJoin the discussion on our facebook event here  \nShare this:
URL:http://www.nexusenergycenter.org/event/bosch-inverter-systems-training-huntsville/
LOCATION:Nexus Energy Center\, 6767 Old Madison Pike NW 
ATTACH;FMTTYPE=image/png:http://www.nexusenergycenter.org/wp-content/blogs.dir/2/files/2017/04/Screenshot-at-Mar-09-17-19-52.png
END:VEVENT
END:VCALENDAR