BEGIN:VCALENDAR
VERSION:2.0
PRODID:-//Nexus Energy Center - ECPv5.1.6//NONSGML v1.0//EN
CALSCALE:GREGORIAN
METHOD:PUBLISH
X-WR-CALNAME:Nexus Energy Center
X-ORIGINAL-URL:http://www.nexusenergycenter.org
X-WR-CALDESC:Events for Nexus Energy Center
BEGIN:VTIMEZONE
TZID:America/Chicago
BEGIN:DAYLIGHT
TZOFFSETFROM:-0600
TZOFFSETTO:-0500
TZNAME:CDT
DTSTART:20160313T080000
END:DAYLIGHT
BEGIN:STANDARD
TZOFFSETFROM:-0500
TZOFFSETTO:-0600
TZNAME:CST
DTSTART:20161106T070000
END:STANDARD
END:VTIMEZONE
BEGIN:VEVENT
DTSTART;TZID=America/Chicago:20160915T163000
DTEND;TZID=America/Chicago:20160915T193000
DTSTAMP:20260424T021142
CREATED:20160830T113800Z
LAST-MODIFIED:20160906T220428Z
UID:7940-1473957000-1473967800@www.nexusenergycenter.org
SUMMARY:Biergarten with Nexus Energy Center
DESCRIPTION:Visit the U.S. Space & Rocket Center Saturn V Hall in the Davidson Center for Space Exploration\, on Thursday September 15th from 4:30 p.m. – 7:30 p.m.for the German Biergarten\, featuring authentic German cuisine. \nTo support the local community\, the U.S. Space & Rocket Center is featuring a nonprofit organization each week\, and a portion of food sales that evening will be donated to the organization. 15th September the featured organization is no other than Nexus Energy Center! \nEnjoy the festive atmosphere with imported and domestic beers and delicious wines from the German region. It&#146;s family friendly and leashed dogs are welcome\, rain or shine! \nAdmission is free\, and food and beverages are available for purchase. \nJoin us! \n\nShare this:
URL:http://www.nexusenergycenter.org/event/biergarten-with-nexus-energy-center/
LOCATION:U.S. Space & Rocket Center\, 1 Tranquility Base\, Huntsville\, AL\, 35805\, United States
ATTACH;FMTTYPE=image/jpeg:http://www.nexusenergycenter.org/wp-content/blogs.dir/2/files/2016/08/Bier_Ad-e1472557126744.jpg
END:VEVENT
END:VCALENDAR