BEGIN:VCALENDAR
VERSION:2.0
PRODID:-//Nexus Energy Center - ECPv5.1.6//NONSGML v1.0//EN
CALSCALE:GREGORIAN
METHOD:PUBLISH
X-WR-CALNAME:Nexus Energy Center
X-ORIGINAL-URL:http://www.nexusenergycenter.org
X-WR-CALDESC:Events for Nexus Energy Center
BEGIN:VTIMEZONE
TZID:America/Chicago
BEGIN:DAYLIGHT
TZOFFSETFROM:-0600
TZOFFSETTO:-0500
TZNAME:CDT
DTSTART:20140309T080000
END:DAYLIGHT
BEGIN:STANDARD
TZOFFSETFROM:-0500
TZOFFSETTO:-0600
TZNAME:CST
DTSTART:20141102T070000
END:STANDARD
END:VTIMEZONE
BEGIN:VEVENT
DTSTART;TZID=America/Chicago:20140821T113000
DTEND;TZID=America/Chicago:20140821T123000
DTSTAMP:20260425T102646
CREATED:20140819T200031Z
LAST-MODIFIED:20140820T205140Z
UID:6672-1408620600-1408624200@www.nexusenergycenter.org
SUMMARY:August Lunch & Learn- Join the TRES Team!
DESCRIPTION:After a successful first crowd-funding experience\, we are ready to start building our tiny home! Please join us Thursday\, August 21st at 11:30 to hear about our project\, see the plans for our tiny home and help us spread the word! If you have free time and want to volunteer to help build the home\, come to lunch to learn how! Lunch will be provided by Earth Fare. \n  \nIt’s not too late to RSVP HERE! \n  \nShare this:
URL:http://www.nexusenergycenter.org/event/august-lunch-learn-join-tres-team/
LOCATION:Nexus Energy Center\, 6767 Old Madison Pike NW 
END:VEVENT
END:VCALENDAR