BEGIN:VCALENDAR
VERSION:2.0
PRODID:-//Nexus Energy Center - ECPv5.1.6//NONSGML v1.0//EN
CALSCALE:GREGORIAN
METHOD:PUBLISH
X-WR-CALNAME:Nexus Energy Center
X-ORIGINAL-URL:http://www.nexusenergycenter.org
X-WR-CALDESC:Events for Nexus Energy Center
BEGIN:VTIMEZONE
TZID:America/Chicago
BEGIN:DAYLIGHT
TZOFFSETFROM:-0600
TZOFFSETTO:-0500
TZNAME:CDT
DTSTART:20150308T080000
END:DAYLIGHT
BEGIN:STANDARD
TZOFFSETFROM:-0500
TZOFFSETTO:-0600
TZNAME:CST
DTSTART:20151101T070000
END:STANDARD
END:VTIMEZONE
BEGIN:VEVENT
DTSTART;TZID=America/Chicago:20150827T113000
DTEND;TZID=America/Chicago:20150827T130000
DTSTAMP:20260424T005936
CREATED:20150807T180122Z
LAST-MODIFIED:20150810T185351Z
UID:7259-1440675000-1440680400@www.nexusenergycenter.org
SUMMARY:August Lunch and Learn: Home Energy Upgrades and How to Finance Them
DESCRIPTION:As an energy conservation and efficiency organization\, one of the most common inquiries we hear from those around the community is how to make improvements to a home’s HVAC system – without breaking the bank. \nJoin us August 27th to hear from AlabamaWISE contractor Todd Witt with Synergy – he’ll be talking about some of the best HVAC upgrade solutions\, and how you can now jump start your HVAC project with the Nexus Energy Center’s new fixed 1% interest AlabamaWISE finance program! \nFree to Nexus members\, $10 for non-members. \n \nShare this:
URL:http://www.nexusenergycenter.org/event/august-lunch-and-learn-hvac-upgrades-and-how-to-finance-them/
LOCATION:Nexus Energy Center\, 6767 Old Madison Pike NW 
CATEGORIES:Lunch and Learn
ATTACH;FMTTYPE=image/jpeg:http://www.nexusenergycenter.org/wp-content/blogs.dir/2/files/2015/08/PD-lunch-logo-singlecrop11-2-e1438970397668.jpg
END:VEVENT
END:VCALENDAR