BEGIN:VCALENDAR
VERSION:2.0
PRODID:-//Nexus Energy Center - ECPv5.1.6//NONSGML v1.0//EN
CALSCALE:GREGORIAN
METHOD:PUBLISH
X-WR-CALNAME:Nexus Energy Center
X-ORIGINAL-URL:http://www.nexusenergycenter.org
X-WR-CALDESC:Events for Nexus Energy Center
BEGIN:VTIMEZONE
TZID:America/Chicago
BEGIN:DAYLIGHT
TZOFFSETFROM:-0600
TZOFFSETTO:-0500
TZNAME:CDT
DTSTART:20170312T080000
END:DAYLIGHT
BEGIN:STANDARD
TZOFFSETFROM:-0500
TZOFFSETTO:-0600
TZNAME:CST
DTSTART:20171105T070000
END:STANDARD
END:VTIMEZONE
BEGIN:VEVENT
DTSTART;VALUE=DATE:20170130
DTEND;VALUE=DATE:20170202
DTSTAMP:20260423T151244
CREATED:20161229T094017Z
LAST-MODIFIED:20161229T094017Z
UID:8239-1485734400-1485993599@www.nexusenergycenter.org
SUMMARY:2017 AHR EXPO - Experience the future of HVACR
DESCRIPTION:Nexus Energy Center will be participating in the International Air-Conditioning\, Heating and Refrigerating Exposition in Las Vegas this January! \nThis Expo will host more than 2\,000 exhibitors and attract crowds of roughly 60\,000 industry professionals from across the U.S. and approximately 150 countries worldwide. The event is co-sponsored by ASHRAE (American Society of Heating\, Refrigerating and Air-Conditioning Engineers Inc.) and AHRI (Air-Conditioning\, Heating and Refrigeration Institute). \nFor additional information on Exhibitors\, Registration and Hotel Discounts\, visit ahrexpo.com. \n  \nShare this:
URL:http://www.nexusenergycenter.org/event/2017-ahr-expo-experience-future-hvacr/
LOCATION:Las Vegas Convention Center\, 3150 Paradise Road\, Las Vegas\, NV\, 89109\, United States
END:VEVENT
END:VCALENDAR